BEGIN:VCALENDAR
PRODID:-//eluceo/ical//2.0/EN
VERSION:2.0
CALSCALE:GREGORIAN
BEGIN:VEVENT
UID:eff2f39844c80a7e96c0879c7033d748
DTSTAMP:20260422T084852Z
SUMMARY:Die Schweiz zwischen Kompromiss und Spaltung
DESCRIPTION:Conférencier(s): Prof. Iwan Rickenbacher\, Kommunikationsberat
 er
URL:https://rotary-solothurn.ch/fr/agenda/show/39531
DTSTART;TZID=Europe/Zurich:20140331T121500
DTEND;TZID=Europe/Zurich:20140331T134500
LOCATION:Zunfthaus zu Wirthen
CATEGORIES:Rotary
END:VEVENT
BEGIN:VTIMEZONE
TZID:Europe/Zurich
BEGIN:DAYLIGHT
DTSTART:20140331T121500
TZNAME:CEST
TZOFFSETTO:+0200
TZOFFSETFROM:+0200
END:DAYLIGHT
END:VTIMEZONE
END:VCALENDAR
