BEGIN:VCALENDAR
PRODID:-//eluceo/ical//2.0/EN
VERSION:2.0
CALSCALE:GREGORIAN
BEGIN:VEVENT
UID:553972e5777eb49743f5d8d736fc4be0
DTSTAMP:20260422T085755Z
SUMMARY:Ostermontag - kein Lunch
DESCRIPTION:
URL:https://rotary-solothurn.ch/fr/agenda/show/39922
DTSTART;TZID=Europe/Zurich:20140421T121500
DTEND;TZID=Europe/Zurich:20140421T134500
LOCATION:-
CATEGORIES:Rotary
END:VEVENT
BEGIN:VTIMEZONE
TZID:Europe/Zurich
BEGIN:DAYLIGHT
DTSTART:20140421T121500
TZNAME:CEST
TZOFFSETTO:+0200
TZOFFSETFROM:+0200
END:DAYLIGHT
END:VTIMEZONE
END:VCALENDAR
