BEGIN:VCALENDAR
PRODID:-//eluceo/ical//2.0/EN
VERSION:2.0
CALSCALE:GREGORIAN
BEGIN:VEVENT
UID:4d85af97c64c5f07ff300087a1d087e6
DTSTAMP:20260425T104919Z
SUMMARY:Inno Campus - ein Grossprojekt in Biel
DESCRIPTION:Conférencier(s): Rot. Felix Kunz
URL:https://rotary-solothurn.ch/fr/agenda/show/40582
DTSTART;TZID=Europe/Zurich:20140602T121500
DTEND;TZID=Europe/Zurich:20140602T134500
LOCATION:Zunfthaus zu Wirthen
CATEGORIES:Rotary
END:VEVENT
BEGIN:VTIMEZONE
TZID:Europe/Zurich
BEGIN:DAYLIGHT
DTSTART:20140602T121500
TZNAME:CEST
TZOFFSETTO:+0200
TZOFFSETFROM:+0200
END:DAYLIGHT
END:VTIMEZONE
END:VCALENDAR
