BEGIN:VCALENDAR
PRODID:-//eluceo/ical//2.0/EN
VERSION:2.0
CALSCALE:GREGORIAN
BEGIN:VEVENT
UID:edf471b3dfd66e7f4612853fb0bee531
DTSTAMP:20260419T214202Z
SUMMARY:Pfingstmontag - kein Lunch
DESCRIPTION:
URL:https://rotary-solothurn.ch/fr/agenda/show/40583
DTSTART;TZID=Europe/Zurich:20140609T000000
DTEND;TZID=Europe/Zurich:20140609T000000
LOCATION:-
CATEGORIES:Rotary
END:VEVENT
BEGIN:VTIMEZONE
TZID:Europe/Zurich
BEGIN:DAYLIGHT
DTSTART:20140609T000000
TZNAME:CEST
TZOFFSETTO:+0200
TZOFFSETFROM:+0200
END:DAYLIGHT
END:VTIMEZONE
END:VCALENDAR
