BEGIN:VCALENDAR
PRODID:-//eluceo/ical//2.0/EN
VERSION:2.0
CALSCALE:GREGORIAN
BEGIN:VEVENT
UID:b1ba6bb7e8b94a204e8bed3f4fac5878
DTSTAMP:20260419T214513Z
SUMMARY:DIE BUNDESANWALTSCHAFT – WER WIR SIND / WAS WIR TUN
DESCRIPTION:Conférencier(s): Dr. iur. Ruedi Montanari\, 1. Stv. Bundesanwa
 lt
URL:https://rotary-solothurn.ch/fr/agenda/show/41793
DTSTART;TZID=Europe/Zurich:20140707T121500
DTEND;TZID=Europe/Zurich:20140707T121500
LOCATION:Zunfthaus zu Wirthen
CATEGORIES:Rotary
END:VEVENT
BEGIN:VTIMEZONE
TZID:Europe/Zurich
BEGIN:DAYLIGHT
DTSTART:20140707T121500
TZNAME:CEST
TZOFFSETTO:+0200
TZOFFSETFROM:+0200
END:DAYLIGHT
END:VTIMEZONE
END:VCALENDAR
