BEGIN:VCALENDAR
PRODID:-//eluceo/ical//2.0/EN
VERSION:2.0
CALSCALE:GREGORIAN
BEGIN:VEVENT
UID:7f912867527344fd9429c2196caa1ea4
DTSTAMP:20260422T001524Z
SUMMARY:Clubversammlung
DESCRIPTION:Sito web: http://www.lacouronne-solothurn.ch\nRelatore/i: Danie
 l Arber\, Bruno Heynen
URL:https://rotary-solothurn.ch/it/agenda/show/131488
DTSTART;TZID=Europe/Zurich:20210906T121500
DTEND;TZID=Europe/Zurich:20210906T140000
LOCATION:La Couronne\, Hauptgasse 64\, 4500 Solothurn
CATEGORIES:Rotary
END:VEVENT
BEGIN:VTIMEZONE
TZID:Europe/Zurich
BEGIN:DAYLIGHT
DTSTART:20210906T121500
TZNAME:CEST
TZOFFSETTO:+0200
TZOFFSETFROM:+0200
END:DAYLIGHT
END:VTIMEZONE
END:VCALENDAR
