BEGIN:VCALENDAR
PRODID:-//eluceo/ical//2.0/EN
VERSION:2.0
CALSCALE:GREGORIAN
BEGIN:VEVENT
UID:d7e0c9698ed39e07f5682fdfdf7890b6
DTSTAMP:20260422T001816Z
SUMMARY:Jörg Hilber - Der Visionär
DESCRIPTION:Sito web: http://www.lacouronne-solothurn.ch
URL:https://rotary-solothurn.ch/it/agenda/show/132182
DTSTART;TZID=Europe/Zurich:20210913T121500
DTEND;TZID=Europe/Zurich:20210913T140000
LOCATION:La Couronne\, Hauptgasse 64\, 4500 Solothurn
CATEGORIES:Rotary
END:VEVENT
BEGIN:VTIMEZONE
TZID:Europe/Zurich
BEGIN:DAYLIGHT
DTSTART:20210913T121500
TZNAME:CEST
TZOFFSETTO:+0200
TZOFFSETFROM:+0200
END:DAYLIGHT
END:VTIMEZONE
END:VCALENDAR
