BEGIN:VCALENDAR
PRODID:-//eluceo/ical//2.0/EN
VERSION:2.0
CALSCALE:GREGORIAN
BEGIN:VEVENT
UID:cf96381c1593dbbae52d0bde9843ca7b
DTSTAMP:20260424T100647Z
SUMMARY:Trauerlunch für Rot. Ruedi Wick
DESCRIPTION:Sito web: http://www.lacouronne-solothurn.ch
URL:https://rotary-solothurn.ch/it/agenda/show/133328
DTSTART;TZID=Europe/Zurich:20211018T121500
DTEND;TZID=Europe/Zurich:20211018T140000
LOCATION:La Couronne\, Hauptgasse 64\, 4500 Solothurn
CATEGORIES:Rotary
END:VEVENT
BEGIN:VTIMEZONE
TZID:Europe/Zurich
BEGIN:DAYLIGHT
DTSTART:20211018T121500
TZNAME:CEST
TZOFFSETTO:+0200
TZOFFSETFROM:+0200
END:DAYLIGHT
END:VTIMEZONE
END:VCALENDAR
