BEGIN:VCALENDAR
PRODID:-//eluceo/ical//2.0/EN
VERSION:2.0
CALSCALE:GREGORIAN
BEGIN:VEVENT
UID:f8aae863261226c6cfa05a50cd2b7c7c
DTSTAMP:20260424T095702Z
SUMMARY:Welt-Polio-Tag
DESCRIPTION:
URL:https://rotary-solothurn.ch/it/agenda/show/133330
DTSTART;TZID=Europe/Zurich:20211024T001500
DTEND;TZID=Europe/Zurich:20211024T234500
LOCATION:auf der ganzen Welt
CATEGORIES:Rotary
END:VEVENT
BEGIN:VTIMEZONE
TZID:Europe/Zurich
BEGIN:DAYLIGHT
DTSTART:20211024T001500
TZNAME:CEST
TZOFFSETTO:+0200
TZOFFSETFROM:+0200
END:DAYLIGHT
END:VTIMEZONE
END:VCALENDAR
