BEGIN:VCALENDAR
PRODID:-//eluceo/ical//2.0/EN
VERSION:2.0
CALSCALE:GREGORIAN
BEGIN:VEVENT
UID:9eed5c1e454d5431b19a1bf843bdb23e
DTSTAMP:20260422T020128Z
SUMMARY:Öufi-Bier
DESCRIPTION:Sito web: https://www.oeufi-bier.ch/
URL:https://rotary-solothurn.ch/it/agenda/show/133332
DTSTART;TZID=Europe/Zurich:20211020T180000
DTEND;TZID=Europe/Zurich:20211020T200000
LOCATION:Öufi Brauerei
CATEGORIES:Rotary
END:VEVENT
BEGIN:VTIMEZONE
TZID:Europe/Zurich
BEGIN:DAYLIGHT
DTSTART:20211020T180000
TZNAME:CEST
TZOFFSETTO:+0200
TZOFFSETFROM:+0200
END:DAYLIGHT
END:VTIMEZONE
END:VCALENDAR
