BEGIN:VCALENDAR
PRODID:-//eluceo/ical//2.0/EN
VERSION:2.0
CALSCALE:GREGORIAN
BEGIN:VEVENT
UID:14f85ed0f435577d63d5d4bef06a882c
DTSTAMP:20260424T100355Z
SUMMARY:"Strommarkt Schweiz"
DESCRIPTION:Sito web: http://www.lacouronne-solothurn.ch\nRelatore/i: Rot. 
 Walter Wirth
URL:https://rotary-solothurn.ch/it/agenda/show/133333
DTSTART;TZID=Europe/Zurich:20211025T121500
DTEND;TZID=Europe/Zurich:20211025T140000
LOCATION:La Couronne\, Hauptgasse 64\, 4500 Solothurn
CATEGORIES:Rotary
END:VEVENT
BEGIN:VTIMEZONE
TZID:Europe/Zurich
BEGIN:DAYLIGHT
DTSTART:20211025T121500
TZNAME:CEST
TZOFFSETTO:+0200
TZOFFSETFROM:+0200
END:DAYLIGHT
END:VTIMEZONE
END:VCALENDAR
