BEGIN:VCALENDAR
PRODID:-//eluceo/ical//2.0/EN
VERSION:2.0
CALSCALE:GREGORIAN
BEGIN:VEVENT
UID:159617208952f2ffef96612074cba9fd
DTSTAMP:20260424T130352Z
SUMMARY:Rotary-Frühstück
DESCRIPTION:Sito web: https://gasthofenge.ch/
URL:https://rotary-solothurn.ch/it/agenda/show/134081
DTSTART;TZID=Europe/Zurich:20211104T070000
DTEND;TZID=Europe/Zurich:20211104T074500
LOCATION:Restaurant Enge Biberist
CATEGORIES:Rotary
END:VEVENT
BEGIN:VTIMEZONE
TZID:Europe/Zurich
BEGIN:STANDARD
DTSTART:20211104T070000
TZNAME:CET
TZOFFSETTO:+0100
TZOFFSETFROM:+0100
END:STANDARD
END:VTIMEZONE
END:VCALENDAR
