BEGIN:VCALENDAR
PRODID:-//eluceo/ical//2.0/EN
VERSION:2.0
CALSCALE:GREGORIAN
BEGIN:VEVENT
UID:6cea78879184a4d5f1f794077376bf52
DTSTAMP:20260422T035318Z
SUMMARY:Klassifikationsvortrag Philippe Sterki
DESCRIPTION:Sito web: http://www.lacouronne-solothurn.ch
URL:https://rotary-solothurn.ch/it/agenda/show/134106
DTSTART;TZID=Europe/Zurich:20220314T121500
DTEND;TZID=Europe/Zurich:20220314T140000
LOCATION:La Couronne\, Hauptgasse 64\, 4500 Solothurn
CATEGORIES:Rotary
END:VEVENT
BEGIN:VTIMEZONE
TZID:Europe/Zurich
BEGIN:STANDARD
DTSTART:20220314T121500
TZNAME:CET
TZOFFSETTO:+0100
TZOFFSETFROM:+0100
END:STANDARD
END:VTIMEZONE
END:VCALENDAR
