BEGIN:VCALENDAR
PRODID:-//eluceo/ical//2.0/EN
VERSION:2.0
CALSCALE:GREGORIAN
BEGIN:VEVENT
UID:33bbed9c63b6342b37a2cf52b238cacc
DTSTAMP:20260420T095325Z
SUMMARY:Übertrittsreferat
DESCRIPTION:Relatore/i: Dr. Danielle Villiger\, Präsidentin Villiger Treuh
 and
URL:https://rotary-solothurn.ch/it/agenda/show/45983
DTSTART;TZID=Europe/Zurich:20141208T121500
DTEND;TZID=Europe/Zurich:20141208T121500
LOCATION:Zunfthaus zu Wirthen
CATEGORIES:Rotary
END:VEVENT
BEGIN:VTIMEZONE
TZID:Europe/Zurich
BEGIN:STANDARD
DTSTART:20141208T121500
TZNAME:CET
TZOFFSETTO:+0100
TZOFFSETFROM:+0100
END:STANDARD
END:VTIMEZONE
END:VCALENDAR
