BEGIN:VCALENDAR
PRODID:-//eluceo/ical//2.0/EN
VERSION:2.0
CALSCALE:GREGORIAN
BEGIN:VEVENT
UID:9e58e941c14a0ad2ea730d461435237c
DTSTAMP:20260424T143026Z
SUMMARY:Gesundheitswesen in Myanmar
DESCRIPTION:Webbplats: http://www.lacouronne-solothurn.ch\nTalare: Dr. Thom
 as Kirchhofer
URL:https://rotary-solothurn.ch/sv/agenda/show/154472
DTSTART;TZID=Europe/Zurich:20230123T121500
DTEND;TZID=Europe/Zurich:20230123T133000
LOCATION:La Couronne\, Hauptgasse 64\, 4500 Solothurn
CATEGORIES:Rotary
END:VEVENT
BEGIN:VTIMEZONE
TZID:Europe/Zurich
BEGIN:STANDARD
DTSTART:20230123T121500
TZNAME:CET
TZOFFSETTO:+0100
TZOFFSETFROM:+0100
END:STANDARD
END:VTIMEZONE
END:VCALENDAR
