BEGIN:VCALENDAR
PRODID:-//eluceo/ical//2.0/EN
VERSION:2.0
CALSCALE:GREGORIAN
BEGIN:VEVENT
UID:4c2cd5566354f34c4281571ac4a80d5f
DTSTAMP:20260422T031147Z
SUMMARY:Clubreise nach Mailand
DESCRIPTION:
URL:https://rotary-solothurn.ch/sv/agenda/show/157568
DTSTART;TZID=Europe/Zurich:20230518T160000
DTEND;TZID=Europe/Zurich:20230521T160000
LOCATION:gemäss separater Einladung
CATEGORIES:Rotary
END:VEVENT
BEGIN:VTIMEZONE
TZID:Europe/Zurich
BEGIN:DAYLIGHT
DTSTART:20230518T160000
TZNAME:CEST
TZOFFSETTO:+0200
TZOFFSETFROM:+0200
END:DAYLIGHT
END:VTIMEZONE
END:VCALENDAR
