BEGIN:VCALENDAR
PRODID:-//eluceo/ical//2.0/EN
VERSION:2.0
CALSCALE:GREGORIAN
BEGIN:VEVENT
UID:115b1a633e2f3adf8231bb2c365fe41d
DTSTAMP:20260420T132124Z
SUMMARY:Generationenakademie
DESCRIPTION:Talare: Rot. Gianpiero Lupi
URL:https://rotary-solothurn.ch/sv/agenda/show/28003
DTSTART;TZID=Europe/Zurich:20130107T121500
DTEND;TZID=Europe/Zurich:20130107T141500
LOCATION:Zunfthaus zu Wirthen
CATEGORIES:Rotary
END:VEVENT
BEGIN:VTIMEZONE
TZID:Europe/Zurich
BEGIN:STANDARD
DTSTART:20130107T121500
TZNAME:CET
TZOFFSETTO:+0100
TZOFFSETFROM:+0100
END:STANDARD
END:VTIMEZONE
END:VCALENDAR
