BEGIN:VCALENDAR
PRODID:-//eluceo/ical//2.0/EN
VERSION:2.0
CALSCALE:GREGORIAN
BEGIN:VEVENT
UID:44c1b55e3c9407727005f059c42b76b4
DTSTAMP:20260423T161358Z
SUMMARY:Plauderlunch
DESCRIPTION:
URL:https://rotary-solothurn.ch/sv/agenda/show/29083
DTSTART;TZID=Europe/Zurich:20130311T121500
DTEND;TZID=Europe/Zurich:20130311T141500
LOCATION:Zunfthaus zu Wirthen
CATEGORIES:Rotary
END:VEVENT
BEGIN:VTIMEZONE
TZID:Europe/Zurich
BEGIN:STANDARD
DTSTART:20130311T121500
TZNAME:CET
TZOFFSETTO:+0100
TZOFFSETFROM:+0100
END:STANDARD
END:VTIMEZONE
END:VCALENDAR
