BEGIN:VCALENDAR
PRODID:-//eluceo/ical//2.0/EN
VERSION:2.0
CALSCALE:GREGORIAN
BEGIN:VEVENT
UID:7feb3ff12e7d33ac3ec183ddbb58b957
DTSTAMP:20260423T162529Z
SUMMARY:Pfingstmontag\,  kein Lunch!
DESCRIPTION:
URL:https://rotary-solothurn.ch/sv/agenda/show/30979
DTSTART;TZID=Europe/Zurich:20130520T000000
DTEND;TZID=Europe/Zurich:20130520T000000
LOCATION:-
CATEGORIES:Rotary
END:VEVENT
BEGIN:VTIMEZONE
TZID:Europe/Zurich
BEGIN:DAYLIGHT
DTSTART:20130520T000000
TZNAME:CEST
TZOFFSETTO:+0200
TZOFFSETFROM:+0200
END:DAYLIGHT
END:VTIMEZONE
END:VCALENDAR
