BEGIN:VCALENDAR
PRODID:-//eluceo/ical//2.0/EN
VERSION:2.0
CALSCALE:GREGORIAN
BEGIN:VEVENT
UID:a7e3581c42a40b6d11304f1734d1e454
DTSTAMP:20260423T162229Z
SUMMARY:Plauderlunch
DESCRIPTION:
URL:https://rotary-solothurn.ch/sv/agenda/show/31132
DTSTART;TZID=Europe/Zurich:20130610T121500
DTEND;TZID=Europe/Zurich:20130610T134500
LOCATION:Zunfthaus zu Wirthen
CATEGORIES:Rotary
END:VEVENT
BEGIN:VTIMEZONE
TZID:Europe/Zurich
BEGIN:DAYLIGHT
DTSTART:20130610T121500
TZNAME:CEST
TZOFFSETTO:+0200
TZOFFSETFROM:+0200
END:DAYLIGHT
END:VTIMEZONE
END:VCALENDAR
