BEGIN:VCALENDAR
PRODID:-//eluceo/ical//2.0/EN
VERSION:2.0
CALSCALE:GREGORIAN
BEGIN:VEVENT
UID:3ec05321efc3bab6a1ec001a81b1b5a9
DTSTAMP:20260420T122946Z
SUMMARY:Spektrum Oralchirurgie
DESCRIPTION:Talare: Rot. Bernd Ilgenstein
URL:https://rotary-solothurn.ch/sv/agenda/show/38608
DTSTART;TZID=Europe/Zurich:20140317T121500
DTEND;TZID=Europe/Zurich:20140317T134500
LOCATION:Zunfthaus zu Wirthen
CATEGORIES:Rotary
END:VEVENT
BEGIN:VTIMEZONE
TZID:Europe/Zurich
BEGIN:STANDARD
DTSTART:20140317T121500
TZNAME:CET
TZOFFSETTO:+0100
TZOFFSETFROM:+0100
END:STANDARD
END:VTIMEZONE
END:VCALENDAR
