BEGIN:VCALENDAR
PRODID:-//eluceo/ical//2.0/EN
VERSION:2.0
CALSCALE:GREGORIAN
BEGIN:VEVENT
UID:c470145884196df05cd4b660ffb65082
DTSTAMP:20260420T135417Z
SUMMARY:50 Jahre fokussiert - Gespräch mit einem Fotografen
DESCRIPTION:Talare: Alain Stouder
URL:https://rotary-solothurn.ch/sv/agenda/show/40580
DTSTART;TZID=Europe/Zurich:20140519T121500
DTEND;TZID=Europe/Zurich:20140519T134500
LOCATION:Zunfthaus zu Wirthen
CATEGORIES:Rotary
END:VEVENT
BEGIN:VTIMEZONE
TZID:Europe/Zurich
BEGIN:DAYLIGHT
DTSTART:20140519T121500
TZNAME:CEST
TZOFFSETTO:+0200
TZOFFSETFROM:+0200
END:DAYLIGHT
END:VTIMEZONE
END:VCALENDAR
